BEGIN:VCALENDAR
VERSION:2.0
METHOD:PUBLISH
BEGIN:VEVENT
UID:WILD_APRICOT_EVENT_3453155_SESSION_1
DTSTART:20190705T230000Z
DTEND:20190706T043000Z
SUMMARY:Parrot Society NZ Avian Workshop
LOCATION:Whangarei
DESCRIPTION:https://www.parrot.co.nz/event-3453155\n\n\nParrot Society NZ Avian Workshop\n  Hosted by\n  PSNZ Northland Branch\n  Heritage Park\, Gate 2\, 500 SH14 Maunu\, Whangarei\n  Date: 6th of July 2019\n  Time: 11am to 4.30pm\n  Guest Speakers\n\n                 Mark Davies        Nutrition leading up to the breeding Season                  Mary-Lee Sloan        Incubation                  Hayden van Hooff        Handrearing and problem solving         \n  \n\n                          11.00 am\n               Meet and greet / morning tea                  11.15 am                 Nutrition leading up to the Breeding season - Mark Davies\n                         12.15 pm        Lunch                  1.00 pm        Incubation Mary-Lee Sloan                  1.45 pm                 Handrearing and problem solving  - Hayden van Hooff\n                         2.45 pm        Afternoon tea                  3.15 pm                 Q & A from the speakers\n                         3.30 pm        Raffle and Auction                           4 - 4.30 pm\n                        Close\n                  \n\n  \n\n  \n\n  \n\n  \n\n  \n\n  COST:   $25.00 members\, $30 non-members Bookings Essential.\n  PSNZ  Bank A/c  02-0152-0528170-000 put name and ref 'Workshop'.\n  Please bring a plate for a shared lunch and if possible something for the raffle.\n  Contacts\n  Mary-Lee Sloan : parrotsinternational.nz@xtra.co.nz\n  Hayden van Hooff : sheeptrainer2006@hotmail.com\n  Heather Flowers : flowers@xtra.co.nz\n  \n\n
DTSTAMP:20191221T001344Z
END:VEVENT
END:VCALENDAR
