BEGIN:VCALENDAR
VERSION:2.0
METHOD:PUBLISH
BEGIN:VEVENT
UID:WILD_APRICOT_EVENT_3390872_SESSION_1
DTSTART:20190720T040000Z
DTEND:20190720T060000Z
SUMMARY:PSNZ AGM 2019
LOCATION:'The Mates Bar'\, 16 Shamrock Drive\, Kumeu
DESCRIPTION:https://www.parrot.co.nz/event-3390872\n\nPSNZ AGM 2019\n  Saturday 20th July\n    This year the AGM will be held at The Mates Bar\, 16 Shamrock Drive\, Kumeu (Formerly known as Paddy's Bar).\n  The AGM starts at 4pm.\n  5pm - Ruby Scott-Smith\, guest speaker will be talking on her experiences volunteering on Codfish Island with the Kakapo.\n  7pm - Dinner is booked at Thai Taste restaurant\, Kumeu.   Please confirm if you wish to be included in the numbers for dinner.\n   \n
DTSTAMP:20191221T001330Z
END:VEVENT
END:VCALENDAR
