BEGIN:VCALENDAR
VERSION:2.0
METHOD:PUBLISH
BEGIN:VEVENT
UID:WILD_APRICOT_EVENT_3390844_SESSION_1
DTSTART:20190531T230000Z
DTEND:20190601T043000Z
SUMMARY:Parrot Avian Workshop - 1st June 2019
LOCATION:Kumeu Community Centre
DESCRIPTION:https://www.parrot.co.nz/event-3390844\n\nParrot Avian Workshop - 1st June 2019\n  Presentations by Rachel Ward and Hayden van Hooff\n  Rachel of Parrot Life Behaviour and Training will be presenting a 2 hr talk and demo “Focus on Problem Behaviour” with live birds and a Q&A session.\n  Following a recent visit to Australia\, Hayden will do a presentation on his aviary tour and will have some amazing photos to show you.\n  Programme of Events\n      * 11.00am Meet and Greet Morning tea\n\n        * 11.15am A preview of our trip to Australia Birds. “Birds and more birds” Hayden van Hooff\n\n        * 12.00pm Lunch\n\n        * 12.45pm Rachel Ward - “Focus on Problem Behaviour” and a “Demo with live birds”\n\n        * 2.30pm Afternoon tea\n\n        * 3.00pm Q & A from Rachel Ward\n\n        * 3.20pm Raffle drawn and Auction\n\n        * 4.00pm to 4.30pm Close\n\n  Cost: $25.00 Members\, $30.00 Non-members\n  Bookings Essential\n  Please make payments to PSNZ Bank Acc 02-0152-0528170-000 and ensure you add your name and reference 'Workshop'.\n  Please bring a plate for a shared lunch and something for the raffle.\n  Location\n  Kumeu Community Centre\, 35 Access Rd\, Kumeu    (near the Kumeu Show grounds)  \n  Contacts\n  Mary-Lee Sloan\,   email : parrotsinternational.nz@xtra.co.nz     tel: 0274 487 816\n  Hayden van Hooff\,   email: sheeptrainer2006@hotmail.com\n  Heather Flowers\,   email: flowers@xtra.co.nz\n  \n\n
DTSTAMP:20191221T001356Z
END:VEVENT
END:VCALENDAR
