BEGIN:VCALENDAR
VERSION:2.0
METHOD:PUBLISH
BEGIN:VEVENT
UID:WILD_APRICOT_EVENT_3263640_SESSION_1
DTSTART:20190308T210000Z
DTEND:20190309T010000Z
SUMMARY:Northland Parrot Society Bird Sale and Expo 2019
LOCATION:Heritage Park\, Gate 2\, 500 SH4\, Maunu\, Whangarei
DESCRIPTION:https://www.parrot.co.nz/event-3263640\n\nSaturday 9th March 2019\n  Location : Heritage Park\, Gate 2\, 500 SH14\, Maunu\, Whangarei\n  Time : Benching starts 9:00am\, sale starts 10.00am until 2.00pm\n  Benching : Free\n  Entrance : Free\n  Vendors responsible for their own birds\, no sales of un-weaned babies.\n  Just a reminder that we want to promote good husbandry of our stock\, so please ensure cages are of a suitable size\, clean\, NOT over crowded\, water and food available.\n  This will be the Northland Branch of the Parrot Society's 1st sale and expo.\n  There will be a decent range of display parrots from Macaws\, Eclectus\, Conures\, as well as a range of different birds for sale.\n  There will be hand rearing demonstrations and a great chance to speak to members who are available to answer any questions on breeding\, rearing or even pet birds.\nGoogle Maps Location  \n\n
DTSTAMP:20191221T001422Z
END:VEVENT
END:VCALENDAR
