BEGIN:VCALENDAR
VERSION:2.0
METHOD:PUBLISH
BEGIN:VEVENT
UID:WILD_APRICOT_EVENT_3259643_SESSION_1
DTSTART:20190329T210000Z
DTEND:20190330T000000Z
SUMMARY:Annual Bird Sale 2019
LOCATION:Mangere War Memorial Hall
DESCRIPTION:https://www.parrot.co.nz/event-3259643\n\nLocation : Mangere War Memorial Hall\, Domain Road\, Mangere\n  Time : Benching starts 9:00am\, Sale Starts 10.00am until 1.00pm\n  Benching : $10 per person\n  Entrance : Gold coin per person (Children under 13 free)\n  Meet some of our top breeders and talk to them about your needs.\n  Vendors responsible for their own birds.\n  Just a reminder that we want to promote good husbandry of our stock\, so please ensure cages are of a suitable size\, clean\, NOT over crowded\, water and food available.\n  The Parrot Café will be running with the usual food and drinks.\n  So bring your spare parrots\, finches\, lovebirds and other feathered friends for buyers to pair up spare birds they may have\, or meet your own forever companion bird. ...\n  \n\n
DTSTAMP:20191221T001409Z
END:VEVENT
END:VCALENDAR
